BEGIN:VCALENDAR
VERSION:2.0
PRODID:-//Re-Quip Foundation - ECPv6.15.20//NONSGML v1.0//EN
CALSCALE:GREGORIAN
METHOD:PUBLISH
X-WR-CALNAME:Re-Quip Foundation
X-ORIGINAL-URL:https://requipfoundation.com
X-WR-CALDESC:Events for Re-Quip Foundation
REFRESH-INTERVAL;VALUE=DURATION:PT1H
X-Robots-Tag:noindex
X-PUBLISHED-TTL:PT1H
BEGIN:VTIMEZONE
TZID:UTC
BEGIN:STANDARD
TZOFFSETFROM:+0000
TZOFFSETTO:+0000
TZNAME:UTC
DTSTART:20250101T000000
END:STANDARD
END:VTIMEZONE
BEGIN:VTIMEZONE
TZID:Europe/Amsterdam
BEGIN:DAYLIGHT
TZOFFSETFROM:+0100
TZOFFSETTO:+0200
TZNAME:CEST
DTSTART:20250330T010000
END:DAYLIGHT
BEGIN:STANDARD
TZOFFSETFROM:+0200
TZOFFSETTO:+0100
TZNAME:CET
DTSTART:20251026T010000
END:STANDARD
BEGIN:DAYLIGHT
TZOFFSETFROM:+0100
TZOFFSETTO:+0200
TZNAME:CEST
DTSTART:20260329T010000
END:DAYLIGHT
BEGIN:STANDARD
TZOFFSETFROM:+0200
TZOFFSETTO:+0100
TZNAME:CET
DTSTART:20261025T010000
END:STANDARD
BEGIN:DAYLIGHT
TZOFFSETFROM:+0100
TZOFFSETTO:+0200
TZNAME:CEST
DTSTART:20270328T010000
END:DAYLIGHT
BEGIN:STANDARD
TZOFFSETFROM:+0200
TZOFFSETTO:+0100
TZNAME:CET
DTSTART:20271031T010000
END:STANDARD
END:VTIMEZONE
BEGIN:VEVENT
DTSTART;TZID=UTC:20260428T080000
DTEND;TZID=UTC:20260428T100000
DTSTAMP:20260421T114741
CREATED:20250911T054713Z
LAST-MODIFIED:20260330T065432Z
UID:1073-1777363200-1777370400@requipfoundation.com
SUMMARY:Supporters breakfast meeting - April
DESCRIPTION:The supporting companies and associations will come together for another Re-Quip Foundation breakfast meeting. During these gatherings\, the foundation will discuss the progress achieved so far\, upcoming plans\, and opportunities for deeper collaboration. The sessions are meant to exchange insights\, align on shared goals\, and explore new initiatives that strengthen circularity within the sector.
URL:https://requipfoundation.com/event/supporters-breakfast-meeting-4/
LOCATION:Maritime & Offshore NL\, Rotterdam
CATEGORIES:Re-Quip meetings
ATTACH;FMTTYPE=image/png:https://requipfoundation.com/wp-content/uploads/2025/09/Re-Quip-events-banner.png
END:VEVENT
BEGIN:VEVENT
DTSTART;TZID=UTC:20260619T133000
DTEND;TZID=UTC:20260619T180000
DTSTAMP:20260421T114741
CREATED:20250911T054917Z
LAST-MODIFIED:20250924T103708Z
UID:1075-1781875800-1781892000@requipfoundation.com
SUMMARY:Re-Quip Foundation public event - June
DESCRIPTION:We are pleased to announce that we will be hosting our third public event\, with a strong focus on circularity and the mission of the Re-Quip Foundation. The full agenda will be shared closer to the date\, but you can already expect inspiring speakers\, insightful presentations\, and plenty of opportunities to get to know Re-Quip and other companies in the sector.
URL:https://requipfoundation.com/event/re-quip-foundation-public-event-3/
CATEGORIES:Re-Quip Foundation event
ATTACH;FMTTYPE=image/png:https://requipfoundation.com/wp-content/uploads/2025/09/Re-Quip-event.png
END:VEVENT
BEGIN:VEVENT
DTSTART;TZID=Europe/Amsterdam:20260915T080000
DTEND;TZID=Europe/Amsterdam:20260915T100000
DTSTAMP:20260421T114741
CREATED:20260304T104631Z
LAST-MODIFIED:20260304T104631Z
UID:1504-1789459200-1789466400@requipfoundation.com
SUMMARY:Supporters breakfast meeting – September
DESCRIPTION:The supporting companies and associations will come together for another Re-Quip Foundation breakfast meeting. During these gatherings\, the foundation will discuss the progress achieved so far\, upcoming plans\, and opportunities for deeper collaboration. The sessions are meant to exchange insights\, align on shared goals\, and explore new initiatives that strengthen circularity within the sector.
URL:https://requipfoundation.com/event/supporters-breakfast-meeting-september/
CATEGORIES:Re-Quip meetings
ATTACH;FMTTYPE=image/png:https://requipfoundation.com/wp-content/uploads/2025/09/Re-Quip-events-banner.png
END:VEVENT
BEGIN:VEVENT
DTSTART;TZID=Europe/Amsterdam:20261110T080000
DTEND;TZID=Europe/Amsterdam:20261110T100000
DTSTAMP:20260421T114741
CREATED:20260304T104747Z
LAST-MODIFIED:20260304T104747Z
UID:1506-1794297600-1794304800@requipfoundation.com
SUMMARY:Supporters breakfast meeting - November
DESCRIPTION:The supporting companies and associations will come together for another Re-Quip Foundation breakfast meeting. During these gatherings\, the foundation will discuss the progress achieved so far\, upcoming plans\, and opportunities for deeper collaboration. The sessions are meant to exchange insights\, align on shared goals\, and explore new initiatives that strengthen circularity within the sector.
URL:https://requipfoundation.com/event/supporters-breakfast-meeting-november/
CATEGORIES:Re-Quip meetings
ATTACH;FMTTYPE=image/png:https://requipfoundation.com/wp-content/uploads/2025/09/Re-Quip-events-banner.png
END:VEVENT
END:VCALENDAR